Package: MerfishData Version: 1.11.0 Command: /home/biocbuild/bbs-3.22-bioc/R/bin/R CMD INSTALL MerfishData StartedAt: 2025-07-08 10:59:30 -0400 (Tue, 08 Jul 2025) EndedAt: 2025-07-08 10:59:57 -0400 (Tue, 08 Jul 2025) EllapsedTime: 26.9 seconds RetCode: 0 Status: OK