Package: MetaGxPancreas Version: 1.29.0 Maintainer: Benjamin Haibe-Kains MaintainerEmail: benjamin.haibe.kains at utoronto.ca git_url: https://git.bioconductor.org/packages/MetaGxPancreas git_branch: devel git_last_commit: d880346 git_last_commit_date: 2025-07-16 10:08:10 -0400 (Wed, 16 Jul 2025)