Package: MetaScope Version: 1.9.4 Command: /home/biocbuild/bbs-3.22-bioc/R/bin/R CMD check --install=check:MetaScope.install-out.txt --library=/home/biocbuild/bbs-3.22-bioc/R/site-library --timings MetaScope_1.9.4.tar.gz StartedAt: 2025-07-17 12:41:36 -0400 (Thu, 17 Jul 2025) EndedAt: 2025-07-17 12:51:19 -0400 (Thu, 17 Jul 2025) EllapsedTime: 582.9 seconds RetCode: 0 Status: OK CheckDir: MetaScope.Rcheck Warnings: 0