Package: MetaScope Version: 1.9.3 Command: /home/biocbuild/bbs-3.22-bioc/R/bin/R CMD INSTALL MetaScope StartedAt: 2025-07-08 11:01:04 -0400 (Tue, 08 Jul 2025) EndedAt: 2025-07-08 11:01:12 -0400 (Tue, 08 Jul 2025) EllapsedTime: 8.3 seconds RetCode: 0 Status: OK