Package: MethylAidData Version: 1.43.0 Command: /home/biocbuild/bbs-3.23-bioc/R/bin/R CMD build --keep-empty-dirs --no-resave-data MethylAidData StartedAt: 2025-11-06 11:30:01 -0500 (Thu, 06 Nov 2025) EndedAt: 2025-11-06 11:30:38 -0500 (Thu, 06 Nov 2025) EllapsedTime: 37.0 seconds RetCode: 0 Status: OK PackageFile: MethylAidData_1.43.0.tar.gz PackageFileSize: 20.97 MiB