Package: MethylAidData Version: 1.41.0 Command: /home/biocbuild/bbs-3.22-bioc/R/bin/R CMD build --keep-empty-dirs --no-resave-data MethylAidData StartedAt: 2025-07-08 11:29:18 -0400 (Tue, 08 Jul 2025) EndedAt: 2025-07-08 11:29:53 -0400 (Tue, 08 Jul 2025) EllapsedTime: 34.6 seconds RetCode: 0 Status: OK PackageFile: MethylAidData_1.41.0.tar.gz PackageFileSize: 20.97 MiB