Package: MethylAidData Version: 1.41.0 Command: /home/biocbuild/bbs-3.22-bioc/R/bin/R CMD INSTALL MethylAidData StartedAt: 2025-07-08 11:01:25 -0400 (Tue, 08 Jul 2025) EndedAt: 2025-07-08 11:01:54 -0400 (Tue, 08 Jul 2025) EllapsedTime: 28.6 seconds RetCode: 0 Status: OK