Package: MethylSeqData Version: 1.21.0 Command: /home/biocbuild/bbs-3.23-bioc/R/bin/R CMD build --keep-empty-dirs --no-resave-data MethylSeqData StartedAt: 2025-11-04 11:31:21 -0500 (Tue, 04 Nov 2025) EndedAt: 2025-11-04 11:32:12 -0500 (Tue, 04 Nov 2025) EllapsedTime: 51.5 seconds RetCode: 0 Status: OK PackageFile: MethylSeqData_1.21.0.tar.gz PackageFileSize: 227 KiB