Package: MethylSeqData Version: 1.19.0 Command: /home/biocbuild/bbs-3.22-bioc/R/bin/R CMD build --keep-empty-dirs --no-resave-data MethylSeqData StartedAt: 2025-07-08 11:29:52 -0400 (Tue, 08 Jul 2025) EndedAt: 2025-07-08 11:30:46 -0400 (Tue, 08 Jul 2025) EllapsedTime: 54.1 seconds RetCode: 0 Status: OK PackageFile: MethylSeqData_1.19.0.tar.gz PackageFileSize: 227 KiB