Package: MicrobiomeBenchmarkData Version: 1.13.0 Command: /home/biocbuild/bbs-3.23-bioc/R/bin/R CMD build --keep-empty-dirs --no-resave-data MicrobiomeBenchmarkData StartedAt: 2025-10-30 11:27:11 -0400 (Thu, 30 Oct 2025) EndedAt: 2025-10-30 11:28:11 -0400 (Thu, 30 Oct 2025) EllapsedTime: 60.6 seconds RetCode: 0 Status: OK PackageFile: MicrobiomeBenchmarkData_1.13.0.tar.gz PackageFileSize: 712.4 KiB