Package: MicrobiomeBenchmarkData Version: 1.11.0 Command: /home/biocbuild/bbs-3.22-bioc/R/bin/R CMD build --keep-empty-dirs --no-resave-data MicrobiomeBenchmarkData StartedAt: 2025-07-08 11:29:53 -0400 (Tue, 08 Jul 2025) EndedAt: 2025-07-08 11:30:54 -0400 (Tue, 08 Jul 2025) EllapsedTime: 60.6 seconds RetCode: 0 Status: OK PackageFile: MicrobiomeBenchmarkData_1.11.0.tar.gz PackageFileSize: 712.3 KiB