Package: MouseAgingData Version: 1.7.0 Command: /home/biocbuild/bbs-3.23-bioc/R/bin/R CMD build --keep-empty-dirs --no-resave-data MouseAgingData StartedAt: 2025-11-04 11:32:11 -0500 (Tue, 04 Nov 2025) EndedAt: 2025-11-04 11:33:19 -0500 (Tue, 04 Nov 2025) EllapsedTime: 68.4 seconds RetCode: 0 Status: OK PackageFile: MouseAgingData_1.7.0.tar.gz PackageFileSize: 1.35 MiB