Package: MouseAgingData Version: 1.5.0 Command: /home/biocbuild/bbs-3.22-bioc/R/bin/R CMD build --keep-empty-dirs --no-resave-data MouseAgingData StartedAt: 2025-07-08 11:30:37 -0400 (Tue, 08 Jul 2025) EndedAt: 2025-07-08 11:31:44 -0400 (Tue, 08 Jul 2025) EllapsedTime: 66.8 seconds RetCode: 0 Status: OK PackageFile: MouseAgingData_1.5.0.tar.gz PackageFileSize: 1.341 MiB