Package: MouseGastrulationData Version: 1.25.0 Command: /home/biocbuild/bbs-3.23-bioc/R/bin/R CMD INSTALL MouseGastrulationData StartedAt: 2025-11-06 11:03:13 -0500 (Thu, 06 Nov 2025) EndedAt: 2025-11-06 11:03:44 -0500 (Thu, 06 Nov 2025) EllapsedTime: 30.8 seconds RetCode: 0 Status: OK