Package: MouseGastrulationData Version: 1.23.0 Command: /home/biocbuild/bbs-3.22-bioc/R/bin/R CMD build --keep-empty-dirs --no-resave-data MouseGastrulationData StartedAt: 2025-07-08 11:30:37 -0400 (Tue, 08 Jul 2025) EndedAt: 2025-07-08 11:32:03 -0400 (Tue, 08 Jul 2025) EllapsedTime: 85.8 seconds RetCode: 0 Status: OK PackageFile: MouseGastrulationData_1.23.0.tar.gz PackageFileSize: 507.6 KiB