Package: NCIgraphData Version: 1.45.0 Command: /home/biocbuild/bbs-3.22-bioc/R/bin/R CMD INSTALL NCIgraphData StartedAt: 2025-07-10 10:55:52 -0400 (Thu, 10 Jul 2025) EndedAt: 2025-07-10 10:56:00 -0400 (Thu, 10 Jul 2025) EllapsedTime: 7.8 seconds RetCode: 0 Status: OK