Package: NestLink Version: 1.25.0 Command: /home/biocbuild/bbs-3.22-bioc/R/bin/R CMD INSTALL NestLink StartedAt: 2025-07-15 11:02:30 -0400 (Tue, 15 Jul 2025) EndedAt: 2025-07-15 11:03:04 -0400 (Tue, 15 Jul 2025) EllapsedTime: 33.8 seconds RetCode: 0 Status: OK