Package: NetActivityData Version: 1.11.0 Maintainer: Carlos Ruiz-Arenas MaintainerEmail: carlos.ruiza at upf.edu git_url: https://git.bioconductor.org/packages/NetActivityData git_branch: devel git_last_commit: fe9f8c2 git_last_commit_date: 2025-04-15 10:22:54 -0400 (Tue, 15 Apr 2025)