Package: NetActivityData Version: 1.13.0 Command: /home/biocbuild/bbs-3.23-bioc/R/bin/R CMD build --keep-empty-dirs --no-resave-data NetActivityData StartedAt: 2025-10-30 11:29:47 -0400 (Thu, 30 Oct 2025) EndedAt: 2025-10-30 11:30:01 -0400 (Thu, 30 Oct 2025) EllapsedTime: 13.4 seconds RetCode: 0 Status: OK PackageFile: NetActivityData_1.13.0.tar.gz PackageFileSize: 5.269 MiB