Package: NetActivityData Version: 1.13.0 Command: /home/biocbuild/bbs-3.23-bioc/R/bin/R CMD INSTALL NetActivityData StartedAt: 2025-10-30 10:56:07 -0400 (Thu, 30 Oct 2025) EndedAt: 2025-10-30 10:56:14 -0400 (Thu, 30 Oct 2025) EllapsedTime: 7.2 seconds RetCode: 0 Status: OK