Package: NetActivityData Version: 1.11.0 Command: /home/biocbuild/bbs-3.22-bioc/R/bin/R CMD INSTALL NetActivityData StartedAt: 2025-07-08 10:55:59 -0400 (Tue, 08 Jul 2025) EndedAt: 2025-07-08 10:56:06 -0400 (Tue, 08 Jul 2025) EllapsedTime: 7.5 seconds RetCode: 0 Status: OK