Package: Neve2006 Version: 0.49.0 Command: /home/biocbuild/bbs-3.23-bioc/R/bin/R CMD INSTALL Neve2006 StartedAt: 2025-10-30 11:07:04 -0400 (Thu, 30 Oct 2025) EndedAt: 2025-10-30 11:07:04 -0400 (Thu, 30 Oct 2025) EllapsedTime: 0.2 seconds RetCode: 1 Status: ERROR