Package: Neve2006 Version: 0.47.0 Command: /home/biocbuild/bbs-3.22-bioc/R/bin/R CMD INSTALL Neve2006 StartedAt: 2025-07-08 10:57:38 -0400 (Tue, 08 Jul 2025) EndedAt: 2025-07-08 10:57:54 -0400 (Tue, 08 Jul 2025) EllapsedTime: 16.1 seconds RetCode: 0 Status: OK