Package: OMICsPCAdata Version: 1.27.0 Command: /home/biocbuild/bbs-3.22-bioc/R/bin/R CMD INSTALL OMICsPCAdata StartedAt: 2025-07-10 10:59:23 -0400 (Thu, 10 Jul 2025) EndedAt: 2025-07-10 11:00:08 -0400 (Thu, 10 Jul 2025) EllapsedTime: 44.5 seconds RetCode: 0 Status: OK