Package: ObMiTi Version: 1.19.0 Command: /home/biocbuild/bbs-3.23-bioc/R/bin/R CMD INSTALL ObMiTi StartedAt: 2025-11-06 10:58:30 -0500 (Thu, 06 Nov 2025) EndedAt: 2025-11-06 10:58:55 -0500 (Thu, 06 Nov 2025) EllapsedTime: 25.0 seconds RetCode: 0 Status: OK