Package: ObMiTi Version: 1.17.0 Command: /home/biocbuild/bbs-3.22-bioc/R/bin/R CMD build --keep-empty-dirs --no-resave-data ObMiTi StartedAt: 2025-07-08 11:33:27 -0400 (Tue, 08 Jul 2025) EndedAt: 2025-07-08 11:34:09 -0400 (Tue, 08 Jul 2025) EllapsedTime: 42.2 seconds RetCode: 0 Status: OK PackageFile: ObMiTi_1.17.0.tar.gz PackageFileSize: 46.94 KiB