Package: OnassisJavaLibs Version: 1.33.0 Command: /home/biocbuild/bbs-3.23-bioc/R/bin/R CMD build --keep-empty-dirs --no-resave-data OnassisJavaLibs StartedAt: 2025-10-30 11:30:33 -0400 (Thu, 30 Oct 2025) EndedAt: 2025-10-30 11:30:45 -0400 (Thu, 30 Oct 2025) EllapsedTime: 12.0 seconds RetCode: 0 Status: OK PackageFile: OnassisJavaLibs_1.33.0.tar.gz PackageFileSize: 85.26 MiB