Package: OnassisJavaLibs Version: 1.31.0 Command: /home/biocbuild/bbs-3.22-bioc/R/bin/R CMD build --keep-empty-dirs --no-resave-data OnassisJavaLibs StartedAt: 2025-07-08 11:33:54 -0400 (Tue, 08 Jul 2025) EndedAt: 2025-07-08 11:34:06 -0400 (Tue, 08 Jul 2025) EllapsedTime: 11.8 seconds RetCode: 0 Status: OK PackageFile: OnassisJavaLibs_1.31.0.tar.gz PackageFileSize: 85.26 MiB