Package: OnassisJavaLibs Version: 1.31.0 Command: /home/biocbuild/bbs-3.22-bioc/R/bin/R CMD check --install=check:OnassisJavaLibs.install-out.txt --library=/home/biocbuild/bbs-3.22-bioc/R/site-library --timings OnassisJavaLibs_1.31.0.tar.gz StartedAt: 2025-07-08 12:47:15 -0400 (Tue, 08 Jul 2025) EndedAt: 2025-07-08 12:47:36 -0400 (Tue, 08 Jul 2025) EllapsedTime: 20.3 seconds RetCode: 0 Status: OK CheckDir: OnassisJavaLibs.Rcheck Warnings: 0