Package: OnassisJavaLibs Version: 1.31.0 Command: /home/biocbuild/bbs-3.22-bioc/R/bin/R CMD INSTALL OnassisJavaLibs StartedAt: 2025-07-08 10:56:04 -0400 (Tue, 08 Jul 2025) EndedAt: 2025-07-08 10:56:06 -0400 (Tue, 08 Jul 2025) EllapsedTime: 2.5 seconds RetCode: 0 Status: OK