Package: PCHiCdata Version: 1.37.0 Command: /home/biocbuild/bbs-3.22-bioc/R/bin/R CMD build --keep-empty-dirs --no-resave-data PCHiCdata StartedAt: 2025-07-10 11:35:28 -0400 (Thu, 10 Jul 2025) EndedAt: 2025-07-10 11:37:16 -0400 (Thu, 10 Jul 2025) EllapsedTime: 108.6 seconds RetCode: 0 Status: OK PackageFile: PCHiCdata_1.37.0.tar.gz PackageFileSize: 183.3 MiB