Package: PCHiCdata Version: 1.37.0 Command: /home/biocbuild/bbs-3.22-bioc/R/bin/R CMD INSTALL PCHiCdata StartedAt: 2025-07-10 10:57:40 -0400 (Thu, 10 Jul 2025) EndedAt: 2025-07-10 10:58:20 -0400 (Thu, 10 Jul 2025) EllapsedTime: 40.0 seconds RetCode: 0 Status: OK