Package: PREDAsampledata Version: 0.49.0 Command: /home/biocbuild/bbs-3.22-bioc/R/bin/R CMD build --keep-empty-dirs --no-resave-data PREDAsampledata StartedAt: 2025-07-15 11:34:38 -0400 (Tue, 15 Jul 2025) EndedAt: 2025-07-15 11:34:58 -0400 (Tue, 15 Jul 2025) EllapsedTime: 20.6 seconds RetCode: 0 Status: OK PackageFile: PREDAsampledata_0.49.0.tar.gz PackageFileSize: 66.79 MiB