Package: PREDAsampledata Version: 0.49.0 Command: /home/biocbuild/bbs-3.22-bioc/R/bin/R CMD INSTALL PREDAsampledata StartedAt: 2025-07-15 10:57:23 -0400 (Tue, 15 Jul 2025) EndedAt: 2025-07-15 10:57:47 -0400 (Tue, 15 Jul 2025) EllapsedTime: 24.0 seconds RetCode: 0 Status: OK