Package: PWMEnrich.Hsapiens.background Version: 4.43.0 Command: /home/biocbuild/bbs-3.22-bioc/R/bin/R CMD build --keep-empty-dirs --no-resave-data PWMEnrich.Hsapiens.background StartedAt: 2025-07-10 11:37:20 -0400 (Thu, 10 Jul 2025) EndedAt: 2025-07-10 11:37:22 -0400 (Thu, 10 Jul 2025) EllapsedTime: 2.0 seconds RetCode: 0 Status: OK PackageFile: PWMEnrich.Hsapiens.background_4.43.0.tar.gz PackageFileSize: 12.31 MiB