Package: PWMEnrich.Hsapiens.background Version: 4.43.0 Command: /home/biocbuild/bbs-3.22-bioc/R/bin/R CMD INSTALL PWMEnrich.Hsapiens.background StartedAt: 2025-07-10 10:57:28 -0400 (Thu, 10 Jul 2025) EndedAt: 2025-07-10 10:57:35 -0400 (Thu, 10 Jul 2025) EllapsedTime: 6.7 seconds RetCode: 0 Status: OK