Package: PWMEnrich.Mmusculus.background Version: 4.43.0 Command: /home/biocbuild/bbs-3.22-bioc/R/bin/R CMD INSTALL PWMEnrich.Mmusculus.background StartedAt: 2025-07-10 10:56:31 -0400 (Thu, 10 Jul 2025) EndedAt: 2025-07-10 10:56:38 -0400 (Thu, 10 Jul 2025) EllapsedTime: 7.0 seconds RetCode: 0 Status: OK