Package: PasillaTranscriptExpr Version: 1.37.0 Command: /home/biocbuild/bbs-3.22-bioc/R/bin/R CMD check --install=check:PasillaTranscriptExpr.install-out.txt --library=/home/biocbuild/bbs-3.22-bioc/R/site-library --timings PasillaTranscriptExpr_1.37.0.tar.gz StartedAt: 2025-07-08 12:48:06 -0400 (Tue, 08 Jul 2025) EndedAt: 2025-07-08 12:48:28 -0400 (Tue, 08 Jul 2025) EllapsedTime: 22.0 seconds RetCode: 0 Status: OK CheckDir: PasillaTranscriptExpr.Rcheck Warnings: 0