Package: PathNetData Version: 1.45.0 Command: /home/biocbuild/bbs-3.22-bioc/R/bin/R CMD check --install=check:PathNetData.install-out.txt --library=/home/biocbuild/bbs-3.22-bioc/R/site-library --timings PathNetData_1.45.0.tar.gz StartedAt: 2025-07-10 12:49:13 -0400 (Thu, 10 Jul 2025) EndedAt: 2025-07-10 12:49:28 -0400 (Thu, 10 Jul 2025) EllapsedTime: 14.6 seconds RetCode: 0 Status: OK CheckDir: PathNetData.Rcheck Warnings: 0