Package: PepsNMRData Version: 1.29.0 Command: /home/biocbuild/bbs-3.23-bioc/R/bin/R CMD build --keep-empty-dirs --no-resave-data PepsNMRData StartedAt: 2025-11-06 11:35:16 -0500 (Thu, 06 Nov 2025) EndedAt: 2025-11-06 11:35:30 -0500 (Thu, 06 Nov 2025) EllapsedTime: 13.7 seconds RetCode: 0 Status: OK PackageFile: PepsNMRData_1.29.0.tar.gz PackageFileSize: 31.89 MiB