Package: PepsNMRData Version: 1.27.0 Command: /home/biocbuild/bbs-3.22-bioc/R/bin/R CMD INSTALL PepsNMRData StartedAt: 2025-07-08 10:55:50 -0400 (Tue, 08 Jul 2025) EndedAt: 2025-07-08 10:56:03 -0400 (Tue, 08 Jul 2025) EllapsedTime: 12.6 seconds RetCode: 0 Status: OK