Package: PhyloProfileData Version: 1.23.3 Maintainer: Vinh Tran MaintainerEmail: tran at bio.uni-frankfurt.de git_url: https://git.bioconductor.org/packages/PhyloProfileData git_branch: devel git_last_commit: d1bac38 git_last_commit_date: 2025-06-25 03:17:55 -0400 (Wed, 25 Jun 2025)