Package: PhyloProfileData Version: 1.23.3 Command: /home/biocbuild/bbs-3.22-bioc/R/bin/R CMD build --keep-empty-dirs --no-resave-data PhyloProfileData StartedAt: 2025-07-08 11:34:53 -0400 (Tue, 08 Jul 2025) EndedAt: 2025-07-08 11:35:26 -0400 (Tue, 08 Jul 2025) EllapsedTime: 32.9 seconds RetCode: 0 Status: OK PackageFile: PhyloProfileData_1.23.3.tar.gz PackageFileSize: 227.9 KiB