Package: ProData Version: 1.47.0 Maintainer: Xiaochun Li MaintainerEmail: xiaochun at jimmy.harvard.edu git_url: https://git.bioconductor.org/packages/ProData git_branch: devel git_last_commit: 5df4bdd git_last_commit_date: 2025-04-15 09:14:21 -0400 (Tue, 15 Apr 2025)