Package: ProData Version: 1.47.0 Command: /home/biocbuild/bbs-3.22-bioc/R/bin/R CMD check --install=check:ProData.install-out.txt --library=/home/biocbuild/bbs-3.22-bioc/R/site-library --timings ProData_1.47.0.tar.gz StartedAt: 2025-07-17 12:52:43 -0400 (Thu, 17 Jul 2025) EndedAt: 2025-07-17 12:52:57 -0400 (Thu, 17 Jul 2025) EllapsedTime: 14.7 seconds RetCode: 0 Status: OK CheckDir: ProData.Rcheck Warnings: 0