Package: ProteinGymR Version: 1.5.0 Command: /home/biocbuild/bbs-3.23-bioc/R/bin/R CMD build --keep-empty-dirs --no-resave-data ProteinGymR StartedAt: 2025-11-11 11:37:12 -0500 (Tue, 11 Nov 2025) EndedAt: 2025-11-11 11:40:55 -0500 (Tue, 11 Nov 2025) EllapsedTime: 223.1 seconds RetCode: 0 Status: OK PackageFile: ProteinGymR_1.5.0.tar.gz PackageFileSize: 2.022 MiB