Package: ProteinGymR Version: 1.5.0 Command: /home/biocbuild/bbs-3.23-bioc/R/bin/R CMD INSTALL ProteinGymR StartedAt: 2025-11-11 10:56:52 -0500 (Tue, 11 Nov 2025) EndedAt: 2025-11-11 10:57:07 -0500 (Tue, 11 Nov 2025) EllapsedTime: 14.2 seconds RetCode: 0 Status: OK