Package: ProteinGymR Version: 1.3.5 Command: /home/biocbuild/bbs-3.22-bioc/R/bin/R CMD build --keep-empty-dirs --no-resave-data ProteinGymR StartedAt: 2025-07-10 11:37:15 -0400 (Thu, 10 Jul 2025) EndedAt: 2025-07-10 11:41:02 -0400 (Thu, 10 Jul 2025) EllapsedTime: 227.6 seconds RetCode: 0 Status: OK PackageFile: ProteinGymR_1.3.5.tar.gz PackageFileSize: 1.999 MiB