Package: ProteinGymR Version: 1.3.5 Command: /home/biocbuild/bbs-3.22-bioc/R/bin/R CMD INSTALL ProteinGymR StartedAt: 2025-07-10 10:57:46 -0400 (Thu, 10 Jul 2025) EndedAt: 2025-07-10 10:58:05 -0400 (Thu, 10 Jul 2025) EllapsedTime: 19.1 seconds RetCode: 0 Status: OK