Package: PtH2O2lipids Version: 1.35.0 Command: /home/biocbuild/bbs-3.22-bioc/R/bin/R CMD INSTALL PtH2O2lipids StartedAt: 2025-07-10 11:03:15 -0400 (Thu, 10 Jul 2025) EndedAt: 2025-07-10 11:04:06 -0400 (Thu, 10 Jul 2025) EllapsedTime: 50.9 seconds RetCode: 0 Status: OK